BEGIN:VCALENDAR
VERSION:2.0
PRODID:-//Lean Six Sigma Training - ECPv6.15.18//NONSGML v1.0//EN
CALSCALE:GREGORIAN
METHOD:PUBLISH
X-WR-CALNAME:Lean Six Sigma Training
X-ORIGINAL-URL:https://lean-six-sigma.training
X-WR-CALDESC:Events for Lean Six Sigma Training
REFRESH-INTERVAL;VALUE=DURATION:PT1H
X-Robots-Tag:noindex
X-PUBLISHED-TTL:PT1H
BEGIN:VTIMEZONE
TZID:UTC
BEGIN:STANDARD
TZOFFSETFROM:+0000
TZOFFSETTO:+0000
TZNAME:UTC
DTSTART:20220101T000000
END:STANDARD
END:VTIMEZONE
BEGIN:VEVENT
DTSTART;TZID=UTC:20241001T090000
DTEND;TZID=UTC:20241001T160000
DTSTAMP:20260422T090942
CREATED:20230928T090911Z
LAST-MODIFIED:20230928T123846Z
UID:79396-1727773200-1727798400@lean-six-sigma.training
SUMMARY:Virtual Classroom Project Champions/Sponsors [1 day] - 1 October 2024
DESCRIPTION:The course is delivered in one\, 1-day session on 1 October 2024
URL:https://lean-six-sigma.training/event/virtual-classroom-project-champions-sponsors-1-day-1-october-2024
CATEGORIES:LSS Project Champions
ATTACH;FMTTYPE=image/png:https://lean-six-sigma.training/wp-content/uploads/2018/01/project_champions.png
END:VEVENT
BEGIN:VEVENT
DTSTART;TZID=UTC:20240326T090000
DTEND;TZID=UTC:20240326T160000
DTSTAMP:20260422T090942
CREATED:20230928T090909Z
LAST-MODIFIED:20230928T124850Z
UID:79395-1711443600-1711468800@lean-six-sigma.training
SUMMARY:Virtual Classroom Project Champions/Sponsors [1 day] - 26 March 2024
DESCRIPTION:The course is delivered in one\, 1-day session on 26 March 2024
URL:https://lean-six-sigma.training/event/virtual-classroom-project-champions-sponsors-1-day-26-march-2024
CATEGORIES:LSS Project Champions
ATTACH;FMTTYPE=image/png:https://lean-six-sigma.training/wp-content/uploads/2018/01/project_champions.png
END:VEVENT
BEGIN:VEVENT
DTSTART;TZID=UTC:20230328T090000
DTEND;TZID=UTC:20230328T160000
DTSTAMP:20260422T090942
CREATED:20221005T102305Z
LAST-MODIFIED:20221005T102305Z
UID:78851-1679994000-1680019200@lean-six-sigma.training
SUMMARY:Virtual Classroom Project Champions/Sponsors [1 day] - 28 March 2023
DESCRIPTION:The course is delivered in one\, 1-day session on 28 March 2023
URL:https://lean-six-sigma.training/event/virtual-classroom-project-champions-sponsors-1-day-28-march-2023
CATEGORIES:LSS Project Champions
ATTACH;FMTTYPE=image/png:https://lean-six-sigma.training/wp-content/uploads/2022/10/project_champions-200x200-IN25Xw.tmp_.png
END:VEVENT
END:VCALENDAR